BEGIN:VCALENDAR
VERSION:2.0
PRODID:-//WasserwachtManching-Termine //wasserwacht-manching.de//DE
CALSCALE:GREGORIAN
BEGIN:VEVENT
DTSTART:20260521T000000
DTEND:20260521T210000
LOCATION:Niederstimmer Weiher
DTSTAMP:T000000
SUMMARY:Wachdiensteinweisung 2026
URL;VALUE=URI:https://www.wasserwacht-manching.de/
DESCRIPTION:Um für die Wachsaison 2026 am Niederstimmer Weiher gut gerüstet zu sein, wird für alle Wachleiter + Wachgänger am Donnerstag, 21.05.2026 18:30Uhr - 19:30Uhr eine Wachdiensteinweisung angeboten.
Themen:
- Wachbetrieb Vorbereiten
- Anmeldung bei der ILS über Digitalfunk
- Wachdienst
- Verschiedene Rettungsmittel
- Sanitätsrucksack / Sanmaterial
- Dokumentation !!!Digitales Wachbuch!!! NEU
- Wachende
Über eine rege Teilnahme würden wir uns freuen.
UID:20171026T130000-20171028T130000-20171028T143000
END:VEVENT
END:VCALENDAR
